BEGIN:VCALENDAR
VERSION:2.0
PRODID:-//Fox and Firkin - ECPv6.15.20//NONSGML v1.0//EN
CALSCALE:GREGORIAN
METHOD:PUBLISH
X-WR-CALNAME:Fox and Firkin
X-ORIGINAL-URL:https://foxfirkin.com
X-WR-CALDESC:Events for Fox and Firkin
REFRESH-INTERVAL;VALUE=DURATION:PT1H
X-Robots-Tag:noindex
X-PUBLISHED-TTL:PT1H
BEGIN:VTIMEZONE
TZID:Europe/London
BEGIN:DAYLIGHT
TZOFFSETFROM:+0000
TZOFFSETTO:+0100
TZNAME:BST
DTSTART:20250330T010000
END:DAYLIGHT
BEGIN:STANDARD
TZOFFSETFROM:+0100
TZOFFSETTO:+0000
TZNAME:GMT
DTSTART:20251026T010000
END:STANDARD
BEGIN:DAYLIGHT
TZOFFSETFROM:+0000
TZOFFSETTO:+0100
TZNAME:BST
DTSTART:20260329T010000
END:DAYLIGHT
BEGIN:STANDARD
TZOFFSETFROM:+0100
TZOFFSETTO:+0000
TZNAME:GMT
DTSTART:20261025T010000
END:STANDARD
BEGIN:DAYLIGHT
TZOFFSETFROM:+0000
TZOFFSETTO:+0100
TZNAME:BST
DTSTART:20270328T010000
END:DAYLIGHT
BEGIN:STANDARD
TZOFFSETFROM:+0100
TZOFFSETTO:+0000
TZNAME:GMT
DTSTART:20271031T010000
END:STANDARD
END:VTIMEZONE
BEGIN:VEVENT
DTSTART;TZID=Europe/London:20260704T150000
DTEND;TZID=Europe/London:20260704T210000
DTSTAMP:20260422T152653
CREATED:20260305T105847Z
LAST-MODIFIED:20260408T132615Z
UID:10000728-1783177200-1783198800@foxfirkin.com
SUMMARY:Chancha via Circuito X El Búho - Daytime Garden Party
DESCRIPTION:The legendary summer party with two of the leading lights of Latin American and global electronic sounds is back for it’s 3rd edition! Chancha Via Circuito x El Búho return to the Fox garden this time with a big line up of friends and family and live music followed by an after party inside the venue on our weighty in house sound system. \nDon’t miss another epic summer party at the Fox and Firkin. \nFull line up TBA \n \n 
URL:https://foxfirkin.com/event/chancha-via-circuito-x-el-buho-daytime-garden-party/
LOCATION:The Fox and Firkin\, 316 Lewisham High St.\, London\, SE13 6JZ\, United Kingdom
CATEGORIES:Brazilian,Cumbia,Dancehall,DJ,downtempo,Dub,Electronic,Latin,World
ATTACH;FMTTYPE=image/jpeg:https://foxfirkin.com/wp-content/uploads/2026/03/Chancha-Via-Circuito-x-El-Buho-Fox-Firkin-copy.jpg
END:VEVENT
END:VCALENDAR