BEGIN:VCALENDAR
VERSION:2.0
PRODID:-//Fox and Firkin - ECPv6.15.20//NONSGML v1.0//EN
CALSCALE:GREGORIAN
METHOD:PUBLISH
X-ORIGINAL-URL:https://foxfirkin.com
X-WR-CALDESC:Events for Fox and Firkin
REFRESH-INTERVAL;VALUE=DURATION:PT1H
X-Robots-Tag:noindex
X-PUBLISHED-TTL:PT1H
BEGIN:VTIMEZONE
TZID:Europe/London
BEGIN:DAYLIGHT
TZOFFSETFROM:+0000
TZOFFSETTO:+0100
TZNAME:BST
DTSTART:20250330T010000
END:DAYLIGHT
BEGIN:STANDARD
TZOFFSETFROM:+0100
TZOFFSETTO:+0000
TZNAME:GMT
DTSTART:20251026T010000
END:STANDARD
BEGIN:DAYLIGHT
TZOFFSETFROM:+0000
TZOFFSETTO:+0100
TZNAME:BST
DTSTART:20260329T010000
END:DAYLIGHT
BEGIN:STANDARD
TZOFFSETFROM:+0100
TZOFFSETTO:+0000
TZNAME:GMT
DTSTART:20261025T010000
END:STANDARD
BEGIN:DAYLIGHT
TZOFFSETFROM:+0000
TZOFFSETTO:+0100
TZNAME:BST
DTSTART:20270328T010000
END:DAYLIGHT
BEGIN:STANDARD
TZOFFSETFROM:+0100
TZOFFSETTO:+0000
TZNAME:GMT
DTSTART:20271031T010000
END:STANDARD
END:VTIMEZONE
BEGIN:VEVENT
DTSTART;TZID=Europe/London:20260214T200000
DTEND;TZID=Europe/London:20260215T030000
DTSTAMP:20260423T150342
CREATED:20260103T162316Z
LAST-MODIFIED:20260210T172525Z
UID:10000654-1771099200-1771124400@foxfirkin.com
SUMMARY:¡Cumbia\, Mi Amor! Valentines Special
DESCRIPTION:Love is fleeting\, Cumbia is forever. Movimientos & La Chonga come together for a special Valentine’s edition of Cumbia\, Mi Amor! Live Cumbia and tropical rhythms all night to dash winter out of the way with warm hearts and fiery beats.   \nLive on stage\, Las Chanchas bring their electrifying take on Peruvian Chicha\, a sound that’s been unfolding in real time across London dancefloors over the past year. Also playing are La Chonga’s house band\, Los Milagros\, delivering a one-off Valentine’s set packed with Cumbia favourites as well as a few cheeky surprises … \nOn the decks\, we’re excited to host special international guest\, Colombian multidisciplinary artist Guayaba\, blending Latin bass\, Cumbia and forward-thinking club sounds. They’re joined by London vinyl selector Crucial Juice and the Movimientos DJs\, keeping the energy moving deep into the night. \nCome and join us for a Valentine’s dancefloor moment you don’t wanna miss. 💃🏽🖤 \n  \nLAS CHANCHAS (live) \nLa Chonga House Band LOS MILAGROS (live)  \nDJs  \nGuayaba (Colombia)  \nCrucial Juice \nMovimientos DJs
URL:https://foxfirkin.com/event/cumbia-mi-amor-valentines-special/
LOCATION:The Fox and Firkin\, 316 Lewisham High St.\, London\, SE13 6JZ\, United Kingdom
CATEGORIES:Afrobeat,Dancehall,DJ,Latin,Reggaeton,Salsa,World
ATTACH;FMTTYPE=image/jpeg:https://foxfirkin.com/wp-content/uploads/2026/01/Cumbia-Mi-Amor-Valentines.jpeg
ORGANIZER;CN="Movimientos":MAILTO:cal@movimientos.org.uk
END:VEVENT
END:VCALENDAR